BEGIN:VCALENDAR
VERSION:2.0
PRODID:-//wp-events-plugin.com//7.2.3.1//EN
TZID:Europe/Berlin
X-WR-TIMEZONE:Europe/Berlin
BEGIN:VEVENT
UID:86@tsc-kressbronn.de
DTSTART;TZID=Europe/Berlin:20230415T090000
DTEND;TZID=Europe/Berlin:20230415T133000
DTSTAMP:20230325T202740Z
URL:https://tsc-kressbronn.de/events/gdl-cmas/
SUMMARY:GDL*** / CMAS***
DESCRIPTION:Theorie zur GDL*** bzw. CMAS*** Ausbildung.\n\nAusschreibung_DT
 SA3Stern_2023
ATTACH;FMTTYPE=image/jpeg:https://tsc-kressbronn.de/wp-content/uploads/202
 3/03/tsck_logo_ausbildung-1.jpg
CATEGORIES:Ausbildung
LOCATION:wird noch bekanntgegeben\, kommt noch\, dann auch\, Deutschland
X-APPLE-STRUCTURED-LOCATION;VALUE=URI;X-ADDRESS=kommt noch\, dann auch\, De
 utschland;X-APPLE-RADIUS=100;X-TITLE=wird noch bekanntgegeben:geo:0,0
END:VEVENT
BEGIN:VTIMEZONE
TZID:Europe/Berlin
X-LIC-LOCATION:Europe/Berlin
BEGIN:DAYLIGHT
DTSTART:20230326T030000
TZOFFSETFROM:+0100
TZOFFSETTO:+0200
TZNAME:CEST
END:DAYLIGHT
END:VTIMEZONE
END:VCALENDAR