BEGIN:VCALENDAR
VERSION:2.0
PRODID:-//wp-events-plugin.com//7.2.3.1//EN
TZID:Europe/Berlin
X-WR-TIMEZONE:Europe/Berlin
BEGIN:VEVENT
UID:142@tsc-kressbronn.de
DTSTART;TZID=Europe/Berlin:20240315T200000
DTEND;TZID=Europe/Berlin:20240315T220000
DTSTAMP:20240224T075900Z
URL:https://tsc-kressbronn.de/events/mitgliederversammlung/
SUMMARY:Mitgliederversammlung
DESCRIPTION:Liebe Mitglieder\,\n\nhiermit laden wir zur Mitgliederversammlu
 ng am 15.03.2024 im Sportrestaurant des TV Kressbronn e.V. ein. Details en
 tnehmt bitte der verlinkten Datei.\n\nTagesordnung_MV_2024_V2\n\nEuer Vors
 tand
CATEGORIES:Mitgliederversammlung
LOCATION:Vereinsheim des TVK\, Maicher Str. \, Kressbronn\, Deutschland
X-APPLE-STRUCTURED-LOCATION;VALUE=URI;X-ADDRESS=Maicher Str. \, Kressbronn\
 , Deutschland;X-APPLE-RADIUS=100;X-TITLE=Vereinsheim des TVK:geo:0,0
END:VEVENT
BEGIN:VTIMEZONE
TZID:Europe/Berlin
X-LIC-LOCATION:Europe/Berlin
BEGIN:STANDARD
DTSTART:20231029T020000
TZOFFSETFROM:+0200
TZOFFSETTO:+0100
TZNAME:CET
END:STANDARD
END:VTIMEZONE
END:VCALENDAR