BEGIN:VCALENDAR
VERSION:2.0
PRODID:-//TSC Kressbronn - ECPv6.15.17.1//NONSGML v1.0//EN
CALSCALE:GREGORIAN
METHOD:PUBLISH
X-ORIGINAL-URL:https://tsc-kressbronn.de
X-WR-CALDESC:Veranstaltungen für TSC Kressbronn
REFRESH-INTERVAL;VALUE=DURATION:PT1H
X-Robots-Tag:noindex
X-PUBLISHED-TTL:PT1H
BEGIN:VTIMEZONE
TZID:Europe/Berlin
BEGIN:DAYLIGHT
TZOFFSETFROM:+0100
TZOFFSETTO:+0200
TZNAME:CEST
DTSTART:20240331T010000
END:DAYLIGHT
BEGIN:STANDARD
TZOFFSETFROM:+0200
TZOFFSETTO:+0100
TZNAME:CET
DTSTART:20241027T010000
END:STANDARD
BEGIN:DAYLIGHT
TZOFFSETFROM:+0100
TZOFFSETTO:+0200
TZNAME:CEST
DTSTART:20250330T010000
END:DAYLIGHT
BEGIN:STANDARD
TZOFFSETFROM:+0200
TZOFFSETTO:+0100
TZNAME:CET
DTSTART:20251026T010000
END:STANDARD
BEGIN:DAYLIGHT
TZOFFSETFROM:+0100
TZOFFSETTO:+0200
TZNAME:CEST
DTSTART:20260329T010000
END:DAYLIGHT
BEGIN:STANDARD
TZOFFSETFROM:+0200
TZOFFSETTO:+0100
TZNAME:CET
DTSTART:20261025T010000
END:STANDARD
END:VTIMEZONE
BEGIN:VEVENT
DTSTART;TZID=Europe/Berlin:20251108T140000
DTEND;TZID=Europe/Berlin:20251108T153000
DTSTAMP:20260423T164025
CREATED:20251002T190605Z
LAST-MODIFIED:20251002T190605Z
UID:5808-1762610400-1762615800@tsc-kressbronn.de
SUMMARY:Jugendtraining
DESCRIPTION:ABC und Tauchtraining bei Alex\, Marcus\, Jörg\, Steffen oder Claudia
URL:https://tsc-kressbronn.de/event1/jugendtraining-5/
LOCATION:Hallenbad Kressbronn\, Maicher Str. 21\, Kressbronn\, 88079\, Germany
CATEGORIES:Jugendtraining
ATTACH;FMTTYPE=image/jpeg:https://tsc-kressbronn.de/wp-content/uploads/2022/05/GDL_Indoor_Basic-1024x7681-1-e1746270544900.jpg
ORGANIZER;CN="TSCK Jugend":MAILTO:jugend@tsc-kressbronn.de
END:VEVENT
BEGIN:VEVENT
DTSTART;TZID=Europe/Berlin:20251122T140000
DTEND;TZID=Europe/Berlin:20251122T153000
DTSTAMP:20260423T164025
CREATED:20251002T191047Z
LAST-MODIFIED:20251002T191057Z
UID:5815-1763820000-1763825400@tsc-kressbronn.de
SUMMARY:Jugendtraining
DESCRIPTION:ABC und Tauchtraining bei Alex\, Marcus\, Jörg\, Steffen oder Claudia
URL:https://tsc-kressbronn.de/event1/jugendtraining-8/
LOCATION:Hallenbad Kressbronn\, Maicher Str. 21\, Kressbronn\, 88079\, Germany
CATEGORIES:Jugendtraining
ATTACH;FMTTYPE=image/jpeg:https://tsc-kressbronn.de/wp-content/uploads/2022/05/GDL_Indoor_Basic-1024x7681-1-e1746270544900.jpg
ORGANIZER;CN="TSCK Jugend":MAILTO:jugend@tsc-kressbronn.de
END:VEVENT
BEGIN:VEVENT
DTSTART;TZID=Europe/Berlin:20251128T163000
DTEND;TZID=Europe/Berlin:20251128T200000
DTSTAMP:20260423T164025
CREATED:20250503T121252Z
LAST-MODIFIED:20250503T121403Z
UID:5674-1764347400-1764360000@tsc-kressbronn.de
SUMMARY:Weihnachtsmarkt Kressbronn
DESCRIPTION:im Rahmen des Kressbronner Weihnachtsmarktes verkaufen wir wieder unsere leckeren schwäbischen Krautspätzle und Glühmost. \nWir freuen uns auf EUCH.
URL:https://tsc-kressbronn.de/event1/weihnachtsmarkt-kressbronn/
ATTACH;FMTTYPE=image/jpeg:https://tsc-kressbronn.de/wp-content/uploads/2022/12/IMG_0928.jpg
END:VEVENT
BEGIN:VEVENT
DTSTART;TZID=Europe/Berlin:20251129T163000
DTEND;TZID=Europe/Berlin:20251129T200000
DTSTAMP:20260423T164025
CREATED:20250503T121339Z
LAST-MODIFIED:20250503T121339Z
UID:5676-1764433800-1764446400@tsc-kressbronn.de
SUMMARY:Weihnachtsmarkt Kressbronn
DESCRIPTION:im Rahmen des Kressbronner Weihnachtsmarktes verkaufen wir wieder unsere leckeren schwäbischen Krautspätzle und Glühmost. \nWir freuen uns auf EUCH.
URL:https://tsc-kressbronn.de/event1/weihnachtsmarkt-kressbronn-2/
ATTACH;FMTTYPE=image/jpeg:https://tsc-kressbronn.de/wp-content/uploads/2022/12/IMG_0928.jpg
END:VEVENT
END:VCALENDAR