BEGIN:VCALENDAR
VERSION:2.0
PRODID:-//TSC Kressbronn - ECPv6.15.17.1//NONSGML v1.0//EN
CALSCALE:GREGORIAN
METHOD:PUBLISH
X-ORIGINAL-URL:https://tsc-kressbronn.de
X-WR-CALDESC:Veranstaltungen für TSC Kressbronn
REFRESH-INTERVAL;VALUE=DURATION:PT1H
X-Robots-Tag:noindex
X-PUBLISHED-TTL:PT1H
BEGIN:VTIMEZONE
TZID:Europe/Berlin
BEGIN:DAYLIGHT
TZOFFSETFROM:+0100
TZOFFSETTO:+0200
TZNAME:CEST
DTSTART:20240331T010000
END:DAYLIGHT
BEGIN:STANDARD
TZOFFSETFROM:+0200
TZOFFSETTO:+0100
TZNAME:CET
DTSTART:20241027T010000
END:STANDARD
BEGIN:DAYLIGHT
TZOFFSETFROM:+0100
TZOFFSETTO:+0200
TZNAME:CEST
DTSTART:20250330T010000
END:DAYLIGHT
BEGIN:STANDARD
TZOFFSETFROM:+0200
TZOFFSETTO:+0100
TZNAME:CET
DTSTART:20251026T010000
END:STANDARD
BEGIN:DAYLIGHT
TZOFFSETFROM:+0100
TZOFFSETTO:+0200
TZNAME:CEST
DTSTART:20260329T010000
END:DAYLIGHT
BEGIN:STANDARD
TZOFFSETFROM:+0200
TZOFFSETTO:+0100
TZNAME:CET
DTSTART:20261025T010000
END:STANDARD
END:VTIMEZONE
BEGIN:VEVENT
DTSTART;TZID=Europe/Berlin:20250714T193000
DTEND;TZID=Europe/Berlin:20250714T213000
DTSTAMP:20260423T221150
CREATED:20250630T184317Z
LAST-MODIFIED:20250630T184633Z
UID:5722-1752521400-1752528600@tsc-kressbronn.de
SUMMARY:Erwachsenentraining im Strandbad Eriskirch
DESCRIPTION:DTG Training im Strandbad Eriskirch
URL:https://tsc-kressbronn.de/event1/erwachsenentraining-im-strandbad-eriskirch/
LOCATION:Strandbad Eriskirch\, Strandbad 1\, Eriskirch\, 88079\, Germany
CATEGORIES:Tauchtraining
ATTACH;FMTTYPE=image/jpeg:https://tsc-kressbronn.de/wp-content/uploads/2022/08/IMG_8649-scaled.jpg
ORGANIZER;CN="TSCK Erwachsene":MAILTO:jugend@tsc-kressbronn.de
END:VEVENT
BEGIN:VEVENT
DTSTART;TZID=Europe/Berlin:20250721T193000
DTEND;TZID=Europe/Berlin:20250721T213000
DTSTAMP:20260423T221150
CREATED:20250630T184733Z
LAST-MODIFIED:20250630T184733Z
UID:5728-1753126200-1753133400@tsc-kressbronn.de
SUMMARY:Erwachsenentraining im Strandbad Eriskirch
DESCRIPTION:DTG Training im Strandbad Eriskirch
URL:https://tsc-kressbronn.de/event1/erwachsenentraining-im-strandbad-eriskirch-2/
LOCATION:Strandbad Eriskirch\, Strandbad 1\, Eriskirch\, 88079\, Germany
CATEGORIES:Tauchtraining
ATTACH;FMTTYPE=image/jpeg:https://tsc-kressbronn.de/wp-content/uploads/2022/08/IMG_8649-scaled.jpg
ORGANIZER;CN="TSCK Erwachsene":MAILTO:jugend@tsc-kressbronn.de
END:VEVENT
BEGIN:VEVENT
DTSTART;TZID=Europe/Berlin:20250728T193000
DTEND;TZID=Europe/Berlin:20250728T213000
DTSTAMP:20260423T221150
CREATED:20250630T184838Z
LAST-MODIFIED:20250630T184838Z
UID:5730-1753731000-1753738200@tsc-kressbronn.de
SUMMARY:Erwachsenentraining im Strandbad Eriskirch
DESCRIPTION:DTG Training im Strandbad Eriskirch
URL:https://tsc-kressbronn.de/event1/erwachsenentraining-im-strandbad-eriskirch-3/
LOCATION:Strandbad Eriskirch\, Strandbad 1\, Eriskirch\, 88079\, Germany
CATEGORIES:Tauchtraining
ATTACH;FMTTYPE=image/jpeg:https://tsc-kressbronn.de/wp-content/uploads/2022/08/IMG_8649-scaled.jpg
ORGANIZER;CN="TSCK Erwachsene":MAILTO:jugend@tsc-kressbronn.de
END:VEVENT
END:VCALENDAR