BEGIN:VCALENDAR
VERSION:2.0
PRODID:-//TSC Kressbronn - ECPv6.15.17.1//NONSGML v1.0//EN
CALSCALE:GREGORIAN
METHOD:PUBLISH
X-ORIGINAL-URL:https://tsc-kressbronn.de
X-WR-CALDESC:Veranstaltungen für TSC Kressbronn
REFRESH-INTERVAL;VALUE=DURATION:PT1H
X-Robots-Tag:noindex
X-PUBLISHED-TTL:PT1H
BEGIN:VTIMEZONE
TZID:Europe/Berlin
BEGIN:DAYLIGHT
TZOFFSETFROM:+0100
TZOFFSETTO:+0200
TZNAME:CEST
DTSTART:20240331T010000
END:DAYLIGHT
BEGIN:STANDARD
TZOFFSETFROM:+0200
TZOFFSETTO:+0100
TZNAME:CET
DTSTART:20241027T010000
END:STANDARD
BEGIN:DAYLIGHT
TZOFFSETFROM:+0100
TZOFFSETTO:+0200
TZNAME:CEST
DTSTART:20250330T010000
END:DAYLIGHT
BEGIN:STANDARD
TZOFFSETFROM:+0200
TZOFFSETTO:+0100
TZNAME:CET
DTSTART:20251026T010000
END:STANDARD
BEGIN:DAYLIGHT
TZOFFSETFROM:+0100
TZOFFSETTO:+0200
TZNAME:CEST
DTSTART:20260329T010000
END:DAYLIGHT
BEGIN:STANDARD
TZOFFSETFROM:+0200
TZOFFSETTO:+0100
TZNAME:CET
DTSTART:20261025T010000
END:STANDARD
END:VTIMEZONE
BEGIN:VEVENT
DTSTART;TZID=Europe/Berlin:20250804T193000
DTEND;TZID=Europe/Berlin:20250804T213000
DTSTAMP:20260423T204721
CREATED:20250630T184931Z
LAST-MODIFIED:20250630T184931Z
UID:5732-1754335800-1754343000@tsc-kressbronn.de
SUMMARY:Erwachsenentraining im Strandbad Eriskirch
DESCRIPTION:DTG Training im Strandbad Eriskirch
URL:https://tsc-kressbronn.de/event1/erwachsenentraining-im-strandbad-eriskirch-4/
LOCATION:Strandbad Eriskirch\, Strandbad 1\, Eriskirch\, 88079\, Germany
CATEGORIES:Tauchtraining
ATTACH;FMTTYPE=image/jpeg:https://tsc-kressbronn.de/wp-content/uploads/2022/08/IMG_8649-scaled.jpg
ORGANIZER;CN="TSCK Erwachsene":MAILTO:jugend@tsc-kressbronn.de
END:VEVENT
BEGIN:VEVENT
DTSTART;TZID=Europe/Berlin:20250811T193000
DTEND;TZID=Europe/Berlin:20250811T213000
DTSTAMP:20260423T204722
CREATED:20250630T185014Z
LAST-MODIFIED:20250630T185014Z
UID:5734-1754940600-1754947800@tsc-kressbronn.de
SUMMARY:Erwachsenentraining im Strandbad Eriskirch
DESCRIPTION:DTG Training im Strandbad Eriskirch
URL:https://tsc-kressbronn.de/event1/erwachsenentraining-im-strandbad-eriskirch-5/
LOCATION:Strandbad Eriskirch\, Strandbad 1\, Eriskirch\, 88079\, Germany
CATEGORIES:Tauchtraining
ATTACH;FMTTYPE=image/jpeg:https://tsc-kressbronn.de/wp-content/uploads/2022/08/IMG_8649-scaled.jpg
ORGANIZER;CN="TSCK Erwachsene":MAILTO:jugend@tsc-kressbronn.de
END:VEVENT
BEGIN:VEVENT
DTSTART;TZID=Europe/Berlin:20250818T193000
DTEND;TZID=Europe/Berlin:20250818T213000
DTSTAMP:20260423T204722
CREATED:20250630T185048Z
LAST-MODIFIED:20250630T185048Z
UID:5736-1755545400-1755552600@tsc-kressbronn.de
SUMMARY:Erwachsenentraining im Strandbad Eriskirch
DESCRIPTION:DTG Training im Strandbad Eriskirch
URL:https://tsc-kressbronn.de/event1/erwachsenentraining-im-strandbad-eriskirch-6/
LOCATION:Strandbad Eriskirch\, Strandbad 1\, Eriskirch\, 88079\, Germany
CATEGORIES:Tauchtraining
ATTACH;FMTTYPE=image/jpeg:https://tsc-kressbronn.de/wp-content/uploads/2022/08/IMG_8649-scaled.jpg
ORGANIZER;CN="TSCK Erwachsene":MAILTO:jugend@tsc-kressbronn.de
END:VEVENT
BEGIN:VEVENT
DTSTART;TZID=Europe/Berlin:20250825T193000
DTEND;TZID=Europe/Berlin:20250825T213000
DTSTAMP:20260423T204722
CREATED:20250630T185132Z
LAST-MODIFIED:20250630T185132Z
UID:5738-1756150200-1756157400@tsc-kressbronn.de
SUMMARY:Erwachsenentraining im Strandbad Eriskirch
DESCRIPTION:DTG Training im Strandbad Eriskirch
URL:https://tsc-kressbronn.de/event1/erwachsenentraining-im-strandbad-eriskirch-7/
LOCATION:Strandbad Eriskirch\, Strandbad 1\, Eriskirch\, 88079\, Germany
CATEGORIES:Tauchtraining
ATTACH;FMTTYPE=image/jpeg:https://tsc-kressbronn.de/wp-content/uploads/2022/08/IMG_8649-scaled.jpg
ORGANIZER;CN="TSCK Erwachsene":MAILTO:jugend@tsc-kressbronn.de
END:VEVENT
END:VCALENDAR